BEGIN:VCALENDAR
VERSION:2.0
CALSCALE:GREGORIAN
BEGIN:VEVENT
URL:https://www.learndesk.us/class/6535929827164160/lesson/c24bdbda816a3e5dfdac23a195aafeb2?ref=outlook-calendar
SUMMARY:Copying Formulas and Functions
DTSTART;TZID=America/Los_Angeles:20260420T190000
DTEND;TZID=America/Los_Angeles:20260420T200000
LOCATION:https://www.learndesk.us/class/6535929827164160/lesson/c24bdbda816a3e5dfdac23a195aafeb2?ref=outlook-calendar
DESCRIPTION: https://www.learndesk.us/class/6535929827164160/lesson/c24bdbda816a3e5dfdac23a195aafeb2?ref=outlook-calendar
STATUS:CONFIRMED
SEQUENCE:3
BEGIN:VALARM
TRIGGER:-PT10M
DESCRIPTION:Class Reminder
ACTION:DISPLAY
END:VALARM
END:VEVENT
END:VCALENDAR