BEGIN:VCALENDAR
VERSION:2.0
CALSCALE:GREGORIAN
BEGIN:VEVENT
URL:https://www.learndesk.us/class/6535929827164160/lesson/9d7990df47843e9d46fc72d8ce1b7eb1?ref=outlook-calendar
SUMMARY:Formatting Worksheets
DTSTART;TZID=America/Los_Angeles:20260420T190000
DTEND;TZID=America/Los_Angeles:20260420T200000
LOCATION:https://www.learndesk.us/class/6535929827164160/lesson/9d7990df47843e9d46fc72d8ce1b7eb1?ref=outlook-calendar
DESCRIPTION: https://www.learndesk.us/class/6535929827164160/lesson/9d7990df47843e9d46fc72d8ce1b7eb1?ref=outlook-calendar
STATUS:CONFIRMED
SEQUENCE:3
BEGIN:VALARM
TRIGGER:-PT10M
DESCRIPTION:Class Reminder
ACTION:DISPLAY
END:VALARM
END:VEVENT
END:VCALENDAR