BEGIN:VCALENDAR
VERSION:2.0
CALSCALE:GREGORIAN
BEGIN:VEVENT
URL:https://www.learndesk.us/class/6535929827164160/lesson/67aec3200f0b2380b91737d7e04a5db0?ref=outlook-calendar
SUMMARY:Managing Worksheet Views
DTSTART;TZID=America/Los_Angeles:20260422T190000
DTEND;TZID=America/Los_Angeles:20260422T200000
LOCATION:https://www.learndesk.us/class/6535929827164160/lesson/67aec3200f0b2380b91737d7e04a5db0?ref=outlook-calendar
DESCRIPTION: https://www.learndesk.us/class/6535929827164160/lesson/67aec3200f0b2380b91737d7e04a5db0?ref=outlook-calendar
STATUS:CONFIRMED
SEQUENCE:3
BEGIN:VALARM
TRIGGER:-PT10M
DESCRIPTION:Class Reminder
ACTION:DISPLAY
END:VALARM
END:VEVENT
END:VCALENDAR