BEGIN:VCALENDAR
VERSION:2.0
CALSCALE:GREGORIAN
BEGIN:VEVENT
URL:https://www.learndesk.us/class/6535929827164160/lesson/2a6110a7c094e845698a3dda6eb6f7f6?ref=outlook-calendar
SUMMARY:Using AutoFill
DTSTART;TZID=America/Los_Angeles:20260422T190000
DTEND;TZID=America/Los_Angeles:20260422T200000
LOCATION:https://www.learndesk.us/class/6535929827164160/lesson/2a6110a7c094e845698a3dda6eb6f7f6?ref=outlook-calendar
DESCRIPTION: https://www.learndesk.us/class/6535929827164160/lesson/2a6110a7c094e845698a3dda6eb6f7f6?ref=outlook-calendar
STATUS:CONFIRMED
SEQUENCE:3
BEGIN:VALARM
TRIGGER:-PT10M
DESCRIPTION:Class Reminder
ACTION:DISPLAY
END:VALARM
END:VEVENT
END:VCALENDAR