BEGIN:VCALENDAR
VERSION:2.0
CALSCALE:GREGORIAN
BEGIN:VEVENT
URL:https://www.learndesk.us/class/6535929827164160/mastering-microsoft-excel-2019-basics?ref=outlook-calendar
SUMMARY:Mastering Microsoft Excel 2019: Basics
DTSTART;TZID=America/Los_Angeles:20260420T190000
DTEND;TZID=America/Los_Angeles:20260420T200000
LOCATION:https://www.learndesk.us/class/6535929827164160/mastering-microsoft-excel-2019-basics?ref=outlook-calendar
DESCRIPTION: 
There are two kinds of people, those who are masters at Microsoft Excel, and those who wish they were.
When you master Microsoft Excel, you have one of the most practical and valuable skillsets in modern business. A spreadsheet guru can work wonders from organizing lists; to creating multi-layered, interactive reports; to answering critical business questions like ROI, budget allocations, expense tracking, and more. This course is your first step towards becoming an expert at using Microsoft Excel 2019.


https://www.learndesk.us/class/6535929827164160/mastering-microsoft-excel-2019-basics?ref=outlook-calendar
STATUS:CONFIRMED
SEQUENCE:3
BEGIN:VALARM
TRIGGER:-PT10M
DESCRIPTION:Class Reminder
ACTION:DISPLAY
END:VALARM
END:VEVENT
END:VCALENDAR