BEGIN:VCALENDAR
VERSION:2.0
CALSCALE:GREGORIAN
BEGIN:VEVENT
URL:https://www.learndesk.us/class/6535197279387648/lesson/2b57f20aa669723611519eb38ae528ef?ref=outlook-calendar
SUMMARY:Descriptive Verbs vs. Superfluous Adjectives/Adverbs
DTSTART;TZID=America/Los_Angeles:20260421T190000
DTEND;TZID=America/Los_Angeles:20260421T200000
LOCATION:https://www.learndesk.us/class/6535197279387648/lesson/2b57f20aa669723611519eb38ae528ef?ref=outlook-calendar
DESCRIPTION: https://www.learndesk.us/class/6535197279387648/lesson/2b57f20aa669723611519eb38ae528ef?ref=outlook-calendar
STATUS:CONFIRMED
SEQUENCE:3
BEGIN:VALARM
TRIGGER:-PT10M
DESCRIPTION:Class Reminder
ACTION:DISPLAY
END:VALARM
END:VEVENT
END:VCALENDAR