BEGIN:VCALENDAR
VERSION:2.0
CALSCALE:GREGORIAN
BEGIN:VEVENT
URL:https://www.learndesk.us/class/6531808655048704/lesson/aa71ce134d1a9f8b7c4fe49a0675fc52?ref=outlook-calendar
SUMMARY:Boost Your Talents and Become a Master
DTSTART;TZID=America/Los_Angeles:20260421T190000
DTEND;TZID=America/Los_Angeles:20260421T200000
LOCATION:https://www.learndesk.us/class/6531808655048704/lesson/aa71ce134d1a9f8b7c4fe49a0675fc52?ref=outlook-calendar
DESCRIPTION: https://www.learndesk.us/class/6531808655048704/lesson/aa71ce134d1a9f8b7c4fe49a0675fc52?ref=outlook-calendar
STATUS:CONFIRMED
SEQUENCE:3
BEGIN:VALARM
TRIGGER:-PT10M
DESCRIPTION:Class Reminder
ACTION:DISPLAY
END:VALARM
END:VEVENT
END:VCALENDAR