BEGIN:VCALENDAR
VERSION:2.0
CALSCALE:GREGORIAN
BEGIN:VEVENT
URL:https://www.learndesk.us/class/6516948399554560/brain-bites-time-management?ref=outlook-calendar
SUMMARY:Brain Bites: Time Management
DTSTART;TZID=America/Los_Angeles:20260420T190000
DTEND;TZID=America/Los_Angeles:20260420T200000
LOCATION:https://www.learndesk.us/class/6516948399554560/brain-bites-time-management?ref=outlook-calendar
DESCRIPTION: 
Take back your day – Learn how to reduce distractions and focus on priorities to get more done.
Everyone is given the same twenty-four hours every day. How you use them is up to you, and in this mini-course, we’ll look at tips from some of the world’s top experts in time management, including Stephen Covey, Dave Crenshaw, Peter Drucker, and Tim Ferriss.
Brain Bites micro-learning courses are information-rich and convey important topics with an engaging mix of video and animation. With 5-minute video lessons and 30-minute-or-less courses, Brain Bites are the perfect tool to educate today’s busy workforce.
What will you learn in this course?

Using a time audit to analyze your productivity
Defining your priorities
Focusing on your circle of influence
Effective ways to use a to-do list
Using the 80/20 rule to manage your priorities, to-do’s, and interruptions
Identifying time wasters and how to manage them effectively

About Brain Bites mini-courses: Brain Bites courses are designed...

https://www.learndesk.us/class/6516948399554560/brain-bites-time-management?ref=outlook-calendar
STATUS:CONFIRMED
SEQUENCE:3
BEGIN:VALARM
TRIGGER:-PT10M
DESCRIPTION:Class Reminder
ACTION:DISPLAY
END:VALARM
END:VEVENT
END:VCALENDAR