BEGIN:VCALENDAR
VERSION:2.0
CALSCALE:GREGORIAN
BEGIN:VEVENT
URL:https://www.learndesk.us/class/6512927706185728/lesson/b3f855afb5931e14985e99dab8f25e99?ref=outlook-calendar
SUMMARY:Finding Pirate Sites and Removing Illegal Material
DTSTART;TZID=America/Los_Angeles:20260422T190000
DTEND;TZID=America/Los_Angeles:20260422T200000
LOCATION:https://www.learndesk.us/class/6512927706185728/lesson/b3f855afb5931e14985e99dab8f25e99?ref=outlook-calendar
DESCRIPTION: https://www.learndesk.us/class/6512927706185728/lesson/b3f855afb5931e14985e99dab8f25e99?ref=outlook-calendar
STATUS:CONFIRMED
SEQUENCE:3
BEGIN:VALARM
TRIGGER:-PT10M
DESCRIPTION:Class Reminder
ACTION:DISPLAY
END:VALARM
END:VEVENT
END:VCALENDAR