BEGIN:VCALENDAR
VERSION:2.0
CALSCALE:GREGORIAN
BEGIN:VEVENT
URL:https://www.learndesk.us/class/6512927706185728/dmca-copyright-remove-online-pirated-copies-of-your-work?ref=outlook-calendar
SUMMARY:DMCA Copyright: Remove Online Pirated Copies of Your Work
DTSTART;TZID=America/Los_Angeles:20260420T190000
DTEND;TZID=America/Los_Angeles:20260420T200000
LOCATION:https://www.learndesk.us/class/6512927706185728/dmca-copyright-remove-online-pirated-copies-of-your-work?ref=outlook-calendar
DESCRIPTION: 
If you want to remove illegal pirated copies of your course or eBook from the Internet, then this course is for you. It gives you all you need to quickly and efficiently remove illegal copies of your work from pirate sites and search engine results. You’ll save hundreds of dollars by doing it yourself instead of hiring a specialist, and you’ll save thousands of dollars in lost sales to the pirate copies.
I’m not going to bore you with detailed descriptions of copyright law. Nobody’s interested in that, you just want to know how to remove the pirate copies of your work as quickly and easily as possible. This course is complete to the point, I show you exactly what to do with practical and easy-to-follow demonstrations. You’ll have your pirated work cleaned up in no time so you can get back to doing what you love best creating great content.


https://www.learndesk.us/class/6512927706185728/dmca-copyright-remove-online-pirated-copies-of-your-work?ref=outlook-calendar
STATUS:CONFIRMED
SEQUENCE:3
BEGIN:VALARM
TRIGGER:-PT10M
DESCRIPTION:Class Reminder
ACTION:DISPLAY
END:VALARM
END:VEVENT
END:VCALENDAR