BEGIN:VCALENDAR
VERSION:2.0
CALSCALE:GREGORIAN
BEGIN:VEVENT
URL:https://www.learndesk.us/class/6510496486260736/lesson/54879fb021239bf76a7e50c8ceaeb929?ref=outlook-calendar
SUMMARY:Microsoft Search
DTSTART;TZID=America/Los_Angeles:20260422T190000
DTEND;TZID=America/Los_Angeles:20260422T200000
LOCATION:https://www.learndesk.us/class/6510496486260736/lesson/54879fb021239bf76a7e50c8ceaeb929?ref=outlook-calendar
DESCRIPTION: https://www.learndesk.us/class/6510496486260736/lesson/54879fb021239bf76a7e50c8ceaeb929?ref=outlook-calendar
STATUS:CONFIRMED
SEQUENCE:3
BEGIN:VALARM
TRIGGER:-PT10M
DESCRIPTION:Class Reminder
ACTION:DISPLAY
END:VALARM
END:VEVENT
END:VCALENDAR