BEGIN:VCALENDAR
VERSION:2.0
CALSCALE:GREGORIAN
BEGIN:VEVENT
URL:https://www.learndesk.us/class/6510284174786560/microsoft-office-master-excel-word-powerpoint-and-outlook?ref=outlook-calendar
SUMMARY:Microsoft Office: Master Excel, Word, PowerPoint, and Outlook
DTSTART;TZID=America/Los_Angeles:20260425T190000
DTEND;TZID=America/Los_Angeles:20260425T200000
LOCATION:https://www.learndesk.us/class/6510284174786560/microsoft-office-master-excel-word-powerpoint-and-outlook?ref=outlook-calendar
DESCRIPTION: 
You will be able to master straight away the following (in just 90 minutes):

Microsoft Word essentials
Microsoft PowerPoint essentials
Microsoft Outlook essentials

What will you learn in this course?
At the end of the course, you start creating your Word document, PowerPoint presentation, Excel spreadsheet, and Outlook emails.
Look, if you are really serious about getting better at excel and advancing your Microsoft Office skills saving hours each day, days each week and weeks each year.
If you want to improve your professional development to achieve greater opportunities like promotions, a higher salary, and knowledge that you can take to another job.
Now you have the opportunity to join your fellow professionals who are taking this course and enhancing their Microsoft skills and job opportunities.
Who should take this course?

People who are in accounting, finance, management, auditing, admin and support, sales, IT, consulting, banking, marketing, business owners, engineering,...

https://www.learndesk.us/class/6510284174786560/microsoft-office-master-excel-word-powerpoint-and-outlook?ref=outlook-calendar
STATUS:CONFIRMED
SEQUENCE:3
BEGIN:VALARM
TRIGGER:-PT10M
DESCRIPTION:Class Reminder
ACTION:DISPLAY
END:VALARM
END:VEVENT
END:VCALENDAR