BEGIN:VCALENDAR
VERSION:2.0
CALSCALE:GREGORIAN
BEGIN:VEVENT
URL:https://www.learndesk.us/class/6485387306336256/lesson/fc4c76c01872e69446e89cf53d65d3ce?ref=outlook-calendar
SUMMARY:Finding your expertise
DTSTART;TZID=America/Los_Angeles:20260422T190000
DTEND;TZID=America/Los_Angeles:20260422T200000
LOCATION:https://www.learndesk.us/class/6485387306336256/lesson/fc4c76c01872e69446e89cf53d65d3ce?ref=outlook-calendar
DESCRIPTION: https://www.learndesk.us/class/6485387306336256/lesson/fc4c76c01872e69446e89cf53d65d3ce?ref=outlook-calendar
STATUS:CONFIRMED
SEQUENCE:3
BEGIN:VALARM
TRIGGER:-PT10M
DESCRIPTION:Class Reminder
ACTION:DISPLAY
END:VALARM
END:VEVENT
END:VCALENDAR