BEGIN:VCALENDAR
VERSION:2.0
CALSCALE:GREGORIAN
BEGIN:VEVENT
URL:https://www.learndesk.us/class/6485387306336256/lesson/d34f45cca10e43c860c2829863785afe?ref=outlook-calendar
SUMMARY:The Muse
DTSTART;TZID=America/Los_Angeles:20260422T190000
DTEND;TZID=America/Los_Angeles:20260422T200000
LOCATION:https://www.learndesk.us/class/6485387306336256/lesson/d34f45cca10e43c860c2829863785afe?ref=outlook-calendar
DESCRIPTION: A muse in Greek mythos was a female goddess or spirit that would inspire the creative process.
Whatever your belief around it, ideas and thoughts seem to come through you rather than you have created them. It’s a wonderful feeling. If you become aware of your muse, you really can develop a relationship with them. I almost can’t tell you about it, as it’s so deeply personal; talking about your muse is like describing a lover. You just don't want to talk about it because it feels icky and disrespectful!

She wakes me up in the night, she’s disrespectful when I am with people, she doesn’t care; she wants me to work when she is ready. She makes use of liminal times when my mind is a little vacant, like when I am sitting on a train, even in the car.

https://www.learndesk.us/class/6485387306336256/lesson/d34f45cca10e43c860c2829863785afe?ref=outlook-calendar
STATUS:CONFIRMED
SEQUENCE:3
BEGIN:VALARM
TRIGGER:-PT10M
DESCRIPTION:Class Reminder
ACTION:DISPLAY
END:VALARM
END:VEVENT
END:VCALENDAR