BEGIN:VCALENDAR
VERSION:2.0
CALSCALE:GREGORIAN
BEGIN:VEVENT
URL:https://www.learndesk.us/class/6485387306336256/lesson/c72a24148ad67cfcf1ec0909207a3166?ref=outlook-calendar
SUMMARY:Get the power behind your words
DTSTART;TZID=America/Los_Angeles:20260421T190000
DTEND;TZID=America/Los_Angeles:20260421T200000
LOCATION:https://www.learndesk.us/class/6485387306336256/lesson/c72a24148ad67cfcf1ec0909207a3166?ref=outlook-calendar
DESCRIPTION: To get clear on your book idea, you have to get clear on you! At some point, you’ll have to answer the question ‘Why am I the person to write this book?’ As a fiction writer, you’ll find it easier to write about what you know.
As a none fiction writer you’ll find it easier to write the book you need to read. Yep, you don’t need to be an expert, you just need to care!

Here are some questions to help you get clear on you:

If you already have a book idea it will help you flesh out why you are the person to write this book. If it doesn’t now is a good time to address that issue! You don’t need to already know everything. You just need a voice and a desire to compile all of the information, boil it down and find out what the world will need two years from now or a new way to tell the story and make the point.

https://www.learndesk.us/class/6485387306336256/lesson/c72a24148ad67cfcf1ec0909207a3166?ref=outlook-calendar
STATUS:CONFIRMED
SEQUENCE:3
BEGIN:VALARM
TRIGGER:-PT10M
DESCRIPTION:Class Reminder
ACTION:DISPLAY
END:VALARM
END:VEVENT
END:VCALENDAR