BEGIN:VCALENDAR
VERSION:2.0
CALSCALE:GREGORIAN
BEGIN:VEVENT
URL:https://www.learndesk.us/class/6485387306336256/lesson/b57052fde31d53d1af7a78356643793a?ref=outlook-calendar
SUMMARY:Thank you
DTSTART;TZID=America/Los_Angeles:20260422T190000
DTEND;TZID=America/Los_Angeles:20260422T200000
LOCATION:https://www.learndesk.us/class/6485387306336256/lesson/b57052fde31d53d1af7a78356643793a?ref=outlook-calendar
DESCRIPTION: I really hope you have enjoyed the course. If there is anything I can do to improve it, please drop an email to workwithme@beckywalsh.com. 
You can work with me on a one to one coaching over a three or a six months period.

https://www.learndesk.us/class/6485387306336256/lesson/b57052fde31d53d1af7a78356643793a?ref=outlook-calendar
STATUS:CONFIRMED
SEQUENCE:3
BEGIN:VALARM
TRIGGER:-PT10M
DESCRIPTION:Class Reminder
ACTION:DISPLAY
END:VALARM
END:VEVENT
END:VCALENDAR