BEGIN:VCALENDAR
VERSION:2.0
CALSCALE:GREGORIAN
BEGIN:VEVENT
URL:https://www.learndesk.us/class/6485387306336256/lesson/a2a97c8af835d5079576648dbcc1b4c5?ref=outlook-calendar
SUMMARY:Finding your authors voice
DTSTART;TZID=America/Los_Angeles:20260422T190000
DTEND;TZID=America/Los_Angeles:20260422T200000
LOCATION:https://www.learndesk.us/class/6485387306336256/lesson/a2a97c8af835d5079576648dbcc1b4c5?ref=outlook-calendar
DESCRIPTION: List 6 things you can’t stop doing. These are compulsions rather than addictions, and they are not stuff you have to do like brushing your teeth. Here’s mine:
• Playing with my dog
• Making people laugh
• Checking phone, emails and Facebook - every hour!
• Learning, reading
• Telling myself off about not doing enough yoga, green smoothies etc • Having one coffee shop coffee

Make your list. 

• Playing with my dog
• Making people laugh
• Checking phone, emails and Facebook
• Learning, reading
• Telling myself off about not doing enough yoga, green smoothies etc • Having one coffee shop coffee
So the themes that come up are Nurturing, Education, Fun, Communication. It’s no accident I have my current job.
So my writer's voice is also warm, fun, educational and chatty. See what I did there?
What themes come up on your list?

https://www.learndesk.us/class/6485387306336256/lesson/a2a97c8af835d5079576648dbcc1b4c5?ref=outlook-calendar
STATUS:CONFIRMED
SEQUENCE:3
BEGIN:VALARM
TRIGGER:-PT10M
DESCRIPTION:Class Reminder
ACTION:DISPLAY
END:VALARM
END:VEVENT
END:VCALENDAR