BEGIN:VCALENDAR
VERSION:2.0
CALSCALE:GREGORIAN
BEGIN:VEVENT
URL:https://www.learndesk.us/class/6485387306336256/lesson/9ebad453da4fe0f8e8e4aabc7932b5da?ref=outlook-calendar
SUMMARY:Get your mind empty for clarity
DTSTART;TZID=America/Los_Angeles:20260422T190000
DTEND;TZID=America/Los_Angeles:20260422T200000
LOCATION:https://www.learndesk.us/class/6485387306336256/lesson/9ebad453da4fe0f8e8e4aabc7932b5da?ref=outlook-calendar
DESCRIPTION: https://www.learndesk.us/class/6485387306336256/lesson/9ebad453da4fe0f8e8e4aabc7932b5da?ref=outlook-calendar
STATUS:CONFIRMED
SEQUENCE:3
BEGIN:VALARM
TRIGGER:-PT10M
DESCRIPTION:Class Reminder
ACTION:DISPLAY
END:VALARM
END:VEVENT
END:VCALENDAR