BEGIN:VCALENDAR
VERSION:2.0
CALSCALE:GREGORIAN
BEGIN:VEVENT
URL:https://www.learndesk.us/class/6485387306336256/lesson/71e101340beb5ad1bb2110d336246a8f?ref=outlook-calendar
SUMMARY:Why write a book
DTSTART;TZID=America/Los_Angeles:20260423T190000
DTEND;TZID=America/Los_Angeles:20260423T200000
LOCATION:https://www.learndesk.us/class/6485387306336256/lesson/71e101340beb5ad1bb2110d336246a8f?ref=outlook-calendar
DESCRIPTION: Every idea is built on another idea or story; this is how history survives. The human need to connect, to exist outside of the mortal body, is powerful. Some people have kids, some people write, some people write, have kids and make films. It is a basic human need to be of meaning, have meaning and to connect. Somehow by doing this we secretly believe we cheat death, and I believe we do. To die is to stop existing in this physical world. If you have a book, your own thoughts exist in someone else’s mind whilst they are reading it. Then that desire to connect goes on long after you die, connections for you are still taking place.

https://www.learndesk.us/class/6485387306336256/lesson/71e101340beb5ad1bb2110d336246a8f?ref=outlook-calendar
STATUS:CONFIRMED
SEQUENCE:3
BEGIN:VALARM
TRIGGER:-PT10M
DESCRIPTION:Class Reminder
ACTION:DISPLAY
END:VALARM
END:VEVENT
END:VCALENDAR