BEGIN:VCALENDAR
VERSION:2.0
CALSCALE:GREGORIAN
BEGIN:VEVENT
URL:https://www.learndesk.us/class/6485387306336256/lesson/6b60799e69508f8117887069f7488a91?ref=outlook-calendar
SUMMARY:The writing process from Hay house authors
DTSTART;TZID=America/Los_Angeles:20260422T190000
DTEND;TZID=America/Los_Angeles:20260422T200000
LOCATION:https://www.learndesk.us/class/6485387306336256/lesson/6b60799e69508f8117887069f7488a91?ref=outlook-calendar
DESCRIPTION: https://www.learndesk.us/class/6485387306336256/lesson/6b60799e69508f8117887069f7488a91?ref=outlook-calendar
STATUS:CONFIRMED
SEQUENCE:3
BEGIN:VALARM
TRIGGER:-PT10M
DESCRIPTION:Class Reminder
ACTION:DISPLAY
END:VALARM
END:VEVENT
END:VCALENDAR