BEGIN:VCALENDAR
VERSION:2.0
CALSCALE:GREGORIAN
BEGIN:VEVENT
URL:https://www.learndesk.us/class/6485387306336256/lesson/5c4367a08994f815f7ad7b09898b16a1?ref=outlook-calendar
SUMMARY:Make a commitment to your book
DTSTART;TZID=America/Los_Angeles:20260422T190000
DTEND;TZID=America/Los_Angeles:20260422T200000
LOCATION:https://www.learndesk.us/class/6485387306336256/lesson/5c4367a08994f815f7ad7b09898b16a1?ref=outlook-calendar
DESCRIPTION: On a night when you are out with friends, what can you talk about effortlessly that's not about your job?
I don’t think I need to explain this one. It’s a good way of seeing what you have passion for!

Take time over these questions and if you’re really struggling you can give the list in the comments box and see if I, or others, can help you see what you can’t see for yourself. But it’s more powerful if you take the time, maybe sleep on it to see it for yourself.

https://www.learndesk.us/class/6485387306336256/lesson/5c4367a08994f815f7ad7b09898b16a1?ref=outlook-calendar
STATUS:CONFIRMED
SEQUENCE:3
BEGIN:VALARM
TRIGGER:-PT10M
DESCRIPTION:Class Reminder
ACTION:DISPLAY
END:VALARM
END:VEVENT
END:VCALENDAR