BEGIN:VCALENDAR
VERSION:2.0
CALSCALE:GREGORIAN
BEGIN:VEVENT
URL:https://www.learndesk.us/class/6485387306336256/lesson/3e8e3cd5ca70faeba96ec35b84f5b34f?ref=outlook-calendar
SUMMARY:The desire to write
DTSTART;TZID=America/Los_Angeles:20260422T190000
DTEND;TZID=America/Los_Angeles:20260422T200000
LOCATION:https://www.learndesk.us/class/6485387306336256/lesson/3e8e3cd5ca70faeba96ec35b84f5b34f?ref=outlook-calendar
DESCRIPTION: The desire to create is a desire for immortality, the need to pass on and teach, a need to go deeper with the very experience of life. 

If you get that, if you feel that, and your chosen route is to author a book, then you have to give in to that and see that everything else is secondary. Just for this time. It’s not your whole life; it’s a calling for this moment. 

It's time to answer the call.

https://www.learndesk.us/class/6485387306336256/lesson/3e8e3cd5ca70faeba96ec35b84f5b34f?ref=outlook-calendar
STATUS:CONFIRMED
SEQUENCE:3
BEGIN:VALARM
TRIGGER:-PT10M
DESCRIPTION:Class Reminder
ACTION:DISPLAY
END:VALARM
END:VEVENT
END:VCALENDAR