BEGIN:VCALENDAR
VERSION:2.0
CALSCALE:GREGORIAN
BEGIN:VEVENT
URL:https://www.learndesk.us/class/6485387306336256/lesson/3757159dd01ba243989b6c6553d0299a?ref=outlook-calendar
SUMMARY:Get inspired
DTSTART;TZID=America/Los_Angeles:20260422T190000
DTEND;TZID=America/Los_Angeles:20260422T200000
LOCATION:https://www.learndesk.us/class/6485387306336256/lesson/3757159dd01ba243989b6c6553d0299a?ref=outlook-calendar
DESCRIPTION: Let me start by saying ‘this is normal’. You will start to find you have voices in your head, you will feel like your book is writing you, and you will start to feel like you are stepping into an altered state of reality. Enjoy it; it’s normal!

You will read your own words and think ‘Wow that’s profound I couldn’t have written that’. It’s normal, yet it’s addictive, seductive and educational; it is writing!
This is why if I was the last person on earth I would still HAVE to write. Even if no one would be around to read it. The book 'writes' you, whilst you are writing the book!

https://www.learndesk.us/class/6485387306336256/lesson/3757159dd01ba243989b6c6553d0299a?ref=outlook-calendar
STATUS:CONFIRMED
SEQUENCE:3
BEGIN:VALARM
TRIGGER:-PT10M
DESCRIPTION:Class Reminder
ACTION:DISPLAY
END:VALARM
END:VEVENT
END:VCALENDAR