BEGIN:VCALENDAR
VERSION:2.0
CALSCALE:GREGORIAN
BEGIN:VEVENT
URL:https://www.learndesk.us/class/6485387306336256/lesson/36aba4c3f14c61e9591a18018e39a188?ref=outlook-calendar
SUMMARY:Get the inspiration to write
DTSTART;TZID=America/Los_Angeles:20260422T190000
DTEND;TZID=America/Los_Angeles:20260422T200000
LOCATION:https://www.learndesk.us/class/6485387306336256/lesson/36aba4c3f14c61e9591a18018e39a188?ref=outlook-calendar
DESCRIPTION: Thinking about starting a book feels like a massive deal. Feels like it might take forever and there's a chance it might not even be that good! This part of the course is to put those thoughts to bed and get you excited about a creative process that you'll love.

https://www.learndesk.us/class/6485387306336256/lesson/36aba4c3f14c61e9591a18018e39a188?ref=outlook-calendar
STATUS:CONFIRMED
SEQUENCE:3
BEGIN:VALARM
TRIGGER:-PT10M
DESCRIPTION:Class Reminder
ACTION:DISPLAY
END:VALARM
END:VEVENT
END:VCALENDAR