BEGIN:VCALENDAR
VERSION:2.0
CALSCALE:GREGORIAN
BEGIN:VEVENT
URL:https://www.learndesk.us/class/6485387306336256/lesson/3579f2eb22ba7a0813f818974b2685e7?ref=outlook-calendar
SUMMARY:About this course
DTSTART;TZID=America/Los_Angeles:20260422T190000
DTEND;TZID=America/Los_Angeles:20260422T200000
LOCATION:https://www.learndesk.us/class/6485387306336256/lesson/3579f2eb22ba7a0813f818974b2685e7?ref=outlook-calendar
DESCRIPTION: https://www.learndesk.us/class/6485387306336256/lesson/3579f2eb22ba7a0813f818974b2685e7?ref=outlook-calendar
STATUS:CONFIRMED
SEQUENCE:3
BEGIN:VALARM
TRIGGER:-PT10M
DESCRIPTION:Class Reminder
ACTION:DISPLAY
END:VALARM
END:VEVENT
END:VCALENDAR