BEGIN:VCALENDAR
VERSION:2.0
CALSCALE:GREGORIAN
BEGIN:VEVENT
URL:https://www.learndesk.us/class/6485387306336256/lesson/1686a63bb8f9766a4752d9ee4eddc694?ref=outlook-calendar
SUMMARY:Finding your passion as a writer
DTSTART;TZID=America/Los_Angeles:20260422T190000
DTEND;TZID=America/Los_Angeles:20260422T200000
LOCATION:https://www.learndesk.us/class/6485387306336256/lesson/1686a63bb8f9766a4752d9ee4eddc694?ref=outlook-calendar
DESCRIPTION: https://www.learndesk.us/class/6485387306336256/lesson/1686a63bb8f9766a4752d9ee4eddc694?ref=outlook-calendar
STATUS:CONFIRMED
SEQUENCE:3
BEGIN:VALARM
TRIGGER:-PT10M
DESCRIPTION:Class Reminder
ACTION:DISPLAY
END:VALARM
END:VEVENT
END:VCALENDAR