BEGIN:VCALENDAR
VERSION:2.0
CALSCALE:GREGORIAN
BEGIN:VEVENT
URL:https://www.learndesk.us/class/6485387306336256/lesson/0a999cde88b67472c36bf06943012b2d?ref=outlook-calendar
SUMMARY:Getting the freedom of your time
DTSTART;TZID=America/Los_Angeles:20260422T190000
DTEND;TZID=America/Los_Angeles:20260422T200000
LOCATION:https://www.learndesk.us/class/6485387306336256/lesson/0a999cde88b67472c36bf06943012b2d?ref=outlook-calendar
DESCRIPTION: There is a difference between important and urgent, and sometimes you have to put on hold what is urgent, for what is important. Sounds weird, because urgent is urgent! Right?

But often what we define as urgent - meaning ‘that which demands our attention right now’, needs to find a new place in line and get out of our hair!
A ringing phone, an email reply, earning money! All stuff that needs to be done now! But if it’s not on fire, you can ask yourself if you really have to do it right at this second or can waiting an hour or two or three be OK? You can call people back!

We live in a world where we expect instant gratification. You become a slave to it. It is the killer of creativity. So make a list of the things you think you simply HAVE to do and see what you can redefine.

https://www.learndesk.us/class/6485387306336256/lesson/0a999cde88b67472c36bf06943012b2d?ref=outlook-calendar
STATUS:CONFIRMED
SEQUENCE:3
BEGIN:VALARM
TRIGGER:-PT10M
DESCRIPTION:Class Reminder
ACTION:DISPLAY
END:VALARM
END:VEVENT
END:VCALENDAR