BEGIN:VCALENDAR
VERSION:2.0
CALSCALE:GREGORIAN
BEGIN:VEVENT
URL:https://www.learndesk.us/class/6485387306336256/lesson/001106762c8d564dd8d505b27b4d3c62?ref=outlook-calendar
SUMMARY:Mind map!
DTSTART;TZID=America/Los_Angeles:20260422T190000
DTEND;TZID=America/Los_Angeles:20260422T200000
LOCATION:https://www.learndesk.us/class/6485387306336256/lesson/001106762c8d564dd8d505b27b4d3c62?ref=outlook-calendar
DESCRIPTION: You may have heard of a mind map before. If not it’s this: Get a large sheet of paper, pop an idea in the middle and then brainstorm every possible thing that could go into your book. Make a cup of tea and add more. Just keep going until your brain is empty. As you do book reading research you can add to this list too.

https://www.learndesk.us/class/6485387306336256/lesson/001106762c8d564dd8d505b27b4d3c62?ref=outlook-calendar
STATUS:CONFIRMED
SEQUENCE:3
BEGIN:VALARM
TRIGGER:-PT10M
DESCRIPTION:Class Reminder
ACTION:DISPLAY
END:VALARM
END:VEVENT
END:VCALENDAR