BEGIN:VCALENDAR
VERSION:2.0
CALSCALE:GREGORIAN
BEGIN:VEVENT
URL:https://www.learndesk.us/class/6485387306336256/get-clear-on-your-book-idea?ref=outlook-calendar
SUMMARY:Get Clear on Your Book Idea
DTSTART;TZID=America/Los_Angeles:20260421T190000
DTEND;TZID=America/Los_Angeles:20260421T200000
LOCATION:https://www.learndesk.us/class/6485387306336256/get-clear-on-your-book-idea?ref=outlook-calendar
DESCRIPTION: 
Five published books and six e-books ago, I was just like you. I didn’t know if I had the talent for it or even a good idea. But that desire to write was strong, so I figured out a system to keep writing and keep my fears in check. It’s a system I have used with students in person for years, many of them are now published authors.
This six-part course takes you from scattered ideas to a fully fleshed-out book writing plan.
What will you learn in this course?

The inspiration behind your writing
The power behind your words
Your mind empty for clarity
Your mind focused on productivity
The book started
Clear of resistance and fear around writing

The course is made up of films, worksheets, and audio interviews, all with the intention of pulling the information that will make you an author out of you.
By the end of it you should have:
A clear book idea, know your writer's voice, all your ideas down ready to start writing, tools to clear resistance and procrastination. You will be...

https://www.learndesk.us/class/6485387306336256/get-clear-on-your-book-idea?ref=outlook-calendar
STATUS:CONFIRMED
SEQUENCE:3
BEGIN:VALARM
TRIGGER:-PT10M
DESCRIPTION:Class Reminder
ACTION:DISPLAY
END:VALARM
END:VEVENT
END:VCALENDAR