BEGIN:VCALENDAR
VERSION:2.0
CALSCALE:GREGORIAN
BEGIN:VEVENT
URL:https://www.learndesk.us/class/6484578891988992/lesson/ffe5176721e2ed8f33233c5cfc3d03f0?ref=outlook-calendar
SUMMARY:Branding, Business Card and Introduction 
DTSTART;TZID=America/Los_Angeles:20260422T190000
DTEND;TZID=America/Los_Angeles:20260422T200000
LOCATION:https://www.learndesk.us/class/6484578891988992/lesson/ffe5176721e2ed8f33233c5cfc3d03f0?ref=outlook-calendar
DESCRIPTION: We talk about personal and corporate branding. Don't underestimate the power of a small business card. How to introduce people properly Just to find out the M.I.P.&nbsp;

https://www.learndesk.us/class/6484578891988992/lesson/ffe5176721e2ed8f33233c5cfc3d03f0?ref=outlook-calendar
STATUS:CONFIRMED
SEQUENCE:3
BEGIN:VALARM
TRIGGER:-PT10M
DESCRIPTION:Class Reminder
ACTION:DISPLAY
END:VALARM
END:VEVENT
END:VCALENDAR