BEGIN:VCALENDAR
VERSION:2.0
CALSCALE:GREGORIAN
BEGIN:VEVENT
URL:https://www.learndesk.us/class/6484578891988992/lesson/f3d99d9eca4bee4fdb0ca79709f0067e?ref=outlook-calendar
SUMMARY:Etiquette for the Young - Manners in Public 
DTSTART;TZID=America/Los_Angeles:20260420T190000
DTEND;TZID=America/Los_Angeles:20260420T200000
LOCATION:https://www.learndesk.us/class/6484578891988992/lesson/f3d99d9eca4bee4fdb0ca79709f0067e?ref=outlook-calendar
DESCRIPTION: Younger children learn through games and play. When teaching this lesson, involve the children, create scenarios and let them role-play.&nbsp;

https://www.learndesk.us/class/6484578891988992/lesson/f3d99d9eca4bee4fdb0ca79709f0067e?ref=outlook-calendar
STATUS:CONFIRMED
SEQUENCE:3
BEGIN:VALARM
TRIGGER:-PT10M
DESCRIPTION:Class Reminder
ACTION:DISPLAY
END:VALARM
END:VEVENT
END:VCALENDAR