BEGIN:VCALENDAR
VERSION:2.0
CALSCALE:GREGORIAN
BEGIN:VEVENT
URL:https://www.learndesk.us/class/6484578891988992/lesson/f396bfb89fae2c10fcf444969ae74965?ref=outlook-calendar
SUMMARY:Red Carpet Etiquette 
DTSTART;TZID=America/Los_Angeles:20260420T190000
DTEND;TZID=America/Los_Angeles:20260420T200000
LOCATION:https://www.learndesk.us/class/6484578891988992/lesson/f396bfb89fae2c10fcf444969ae74965?ref=outlook-calendar
DESCRIPTION: Roll out the red carpet, the red carpet treatment. You might have heard of these terms and probably attended some of these events. Have you done it right A red carpet is traditionally used to mark the route taken by heads of state on ceremonial and formal occasions It has in recent decades been extended to use by VIPs and celebrities at formal events.

https://www.learndesk.us/class/6484578891988992/lesson/f396bfb89fae2c10fcf444969ae74965?ref=outlook-calendar
STATUS:CONFIRMED
SEQUENCE:3
BEGIN:VALARM
TRIGGER:-PT10M
DESCRIPTION:Class Reminder
ACTION:DISPLAY
END:VALARM
END:VEVENT
END:VCALENDAR