BEGIN:VCALENDAR
VERSION:2.0
CALSCALE:GREGORIAN
BEGIN:VEVENT
URL:https://www.learndesk.us/class/6484578891988992/lesson/d26462fab5aa18bac60cc80cc6b255c7?ref=outlook-calendar
SUMMARY:Graceful Department - How to Stand 
DTSTART;TZID=America/Los_Angeles:20260422T190000
DTEND;TZID=America/Los_Angeles:20260422T200000
LOCATION:https://www.learndesk.us/class/6484578891988992/lesson/d26462fab5aa18bac60cc80cc6b255c7?ref=outlook-calendar
DESCRIPTION: There are 3 lessons in this part. Are some people born elegant Can elegance be obtained through training If so, how We recommend that you watch the classic film My Fair Lady and the comedy Miss Congeniality to see how people transform by training and hard work.&nbsp;

https://www.learndesk.us/class/6484578891988992/lesson/d26462fab5aa18bac60cc80cc6b255c7?ref=outlook-calendar
STATUS:CONFIRMED
SEQUENCE:3
BEGIN:VALARM
TRIGGER:-PT10M
DESCRIPTION:Class Reminder
ACTION:DISPLAY
END:VALARM
END:VEVENT
END:VCALENDAR