BEGIN:VCALENDAR
VERSION:2.0
CALSCALE:GREGORIAN
BEGIN:VEVENT
URL:https://www.learndesk.us/class/6484578891988992/lesson/97472c9a442ba9cfacfbce7553756665?ref=outlook-calendar
SUMMARY:What Makes a Gentleman 
DTSTART;TZID=America/Los_Angeles:20260420T190000
DTEND;TZID=America/Los_Angeles:20260420T200000
LOCATION:https://www.learndesk.us/class/6484578891988992/lesson/97472c9a442ba9cfacfbce7553756665?ref=outlook-calendar
DESCRIPTION: The earliest gentlemen in Britain were basically from aristocratic or wealthy families. A contemporary gentleman, regardless of wealth or education, what traits does he have to possessDownload:&nbsp;
1） What makes a gentleman

https://www.learndesk.us/class/6484578891988992/lesson/97472c9a442ba9cfacfbce7553756665?ref=outlook-calendar
STATUS:CONFIRMED
SEQUENCE:3
BEGIN:VALARM
TRIGGER:-PT10M
DESCRIPTION:Class Reminder
ACTION:DISPLAY
END:VALARM
END:VEVENT
END:VCALENDAR