BEGIN:VCALENDAR
VERSION:2.0
CALSCALE:GREGORIAN
BEGIN:VEVENT
URL:https://www.learndesk.us/class/6484578891988992/lesson/82bb93fa5b236aee561552aa9fbdd479?ref=outlook-calendar
SUMMARY:Etiquette for Signing Agreement 
DTSTART;TZID=America/Los_Angeles:20260422T190000
DTEND;TZID=America/Los_Angeles:20260422T200000
LOCATION:https://www.learndesk.us/class/6484578891988992/lesson/82bb93fa5b236aee561552aa9fbdd479?ref=outlook-calendar
DESCRIPTION: We demonstrate the proper etiquette for signing an agreement, whether it is diplomatic, international or just a corporate ceremony.&nbsp;

https://www.learndesk.us/class/6484578891988992/lesson/82bb93fa5b236aee561552aa9fbdd479?ref=outlook-calendar
STATUS:CONFIRMED
SEQUENCE:3
BEGIN:VALARM
TRIGGER:-PT10M
DESCRIPTION:Class Reminder
ACTION:DISPLAY
END:VALARM
END:VEVENT
END:VCALENDAR