BEGIN:VCALENDAR
VERSION:2.0
CALSCALE:GREGORIAN
BEGIN:VEVENT
URL:https://www.learndesk.us/class/6484578891988992/lesson/80728d6d8acc829bc7e3b0cf63e93453?ref=outlook-calendar
SUMMARY:Professional Presence 
DTSTART;TZID=America/Los_Angeles:20260420T190000
DTEND;TZID=America/Los_Angeles:20260420T200000
LOCATION:https://www.learndesk.us/class/6484578891988992/lesson/80728d6d8acc829bc7e3b0cf63e93453?ref=outlook-calendar
DESCRIPTION: This episode echoes the lesson 'How to Make a Good First Impression' of Week 1.&nbsp;

https://www.learndesk.us/class/6484578891988992/lesson/80728d6d8acc829bc7e3b0cf63e93453?ref=outlook-calendar
STATUS:CONFIRMED
SEQUENCE:3
BEGIN:VALARM
TRIGGER:-PT10M
DESCRIPTION:Class Reminder
ACTION:DISPLAY
END:VALARM
END:VEVENT
END:VCALENDAR