BEGIN:VCALENDAR
VERSION:2.0
CALSCALE:GREGORIAN
BEGIN:VEVENT
URL:https://www.learndesk.us/class/6484578891988992/lesson/4aa7f04b5c7991405f415a475b07a024?ref=outlook-calendar
SUMMARY:Does East Meet West in Etiquette and Manners 
DTSTART;TZID=America/Los_Angeles:20260420T190000
DTEND;TZID=America/Los_Angeles:20260420T200000
LOCATION:https://www.learndesk.us/class/6484578891988992/lesson/4aa7f04b5c7991405f415a475b07a024?ref=outlook-calendar
DESCRIPTION: Can East and West meet Yes, they can. In some areas, East has met West.
In this episode, Emilia and Jacky share the differences and the principles of dealing with culture issues.&nbsp;

https://www.learndesk.us/class/6484578891988992/lesson/4aa7f04b5c7991405f415a475b07a024?ref=outlook-calendar
STATUS:CONFIRMED
SEQUENCE:3
BEGIN:VALARM
TRIGGER:-PT10M
DESCRIPTION:Class Reminder
ACTION:DISPLAY
END:VALARM
END:VEVENT
END:VCALENDAR