BEGIN:VCALENDAR
VERSION:2.0
CALSCALE:GREGORIAN
BEGIN:VEVENT
URL:https://www.learndesk.us/class/6484578891988992/lesson/460089562cc5fa88f28602c2a92e6c42?ref=outlook-calendar
SUMMARY:Course Information and Study Guide 
DTSTART;TZID=America/Los_Angeles:20260422T190000
DTEND;TZID=America/Los_Angeles:20260422T200000
LOCATION:https://www.learndesk.us/class/6484578891988992/lesson/460089562cc5fa88f28602c2a92e6c42?ref=outlook-calendar
DESCRIPTION: Important:&nbsp;
1) Please download and read the Welcome Letter before you start. It contains useful information about this course including how to get your certificate.&nbsp;2) Our motto is Being Gracious and Kind. Please read, ponder and understand the attached PDF information: What makes a good etiquette consultant3) Follow the instruction, do the relevant readings and research, and finish the tasks. This is to enhance your understanding, achieve a better outcome, and better prepare for your future career.
This session has included:&nbsp;1) A Welcome Letter with Detailed Guidelines&nbsp;2) Course Outline of Week 1 with further study guidelines, quizzes, tasks, etc.&nbsp;3) a Swop analysis form&nbsp;4) eBook - A Guide To Become An Etiquette Consultant (155 pages)&nbsp;5) eBook - Etiquette with Ziki (52 pages)&nbsp;

https://www.learndesk.us/class/6484578891988992/lesson/460089562cc5fa88f28602c2a92e6c42?ref=outlook-calendar
STATUS:CONFIRMED
SEQUENCE:3
BEGIN:VALARM
TRIGGER:-PT10M
DESCRIPTION:Class Reminder
ACTION:DISPLAY
END:VALARM
END:VEVENT
END:VCALENDAR