BEGIN:VCALENDAR
VERSION:2.0
CALSCALE:GREGORIAN
BEGIN:VEVENT
URL:https://www.learndesk.us/class/6484578891988992/lesson/0ce168b1e64c90afd290b5e3a1f27336?ref=outlook-calendar
SUMMARY:Dress Code for Men 
DTSTART;TZID=America/Los_Angeles:20260420T190000
DTEND;TZID=America/Los_Angeles:20260420T200000
LOCATION:https://www.learndesk.us/class/6484578891988992/lesson/0ce168b1e64c90afd290b5e3a1f27336?ref=outlook-calendar
DESCRIPTION: Reading to Download:&nbsp;What you wear is a statement&nbsp;

https://www.learndesk.us/class/6484578891988992/lesson/0ce168b1e64c90afd290b5e3a1f27336?ref=outlook-calendar
STATUS:CONFIRMED
SEQUENCE:3
BEGIN:VALARM
TRIGGER:-PT10M
DESCRIPTION:Class Reminder
ACTION:DISPLAY
END:VALARM
END:VEVENT
END:VCALENDAR