BEGIN:VCALENDAR
VERSION:2.0
CALSCALE:GREGORIAN
BEGIN:VEVENT
URL:https://www.learndesk.us/class/6467148424675328/lesson/6479a043a26caf9bf3224e312c3b6eac?ref=outlook-calendar
SUMMARY:Our Website
DTSTART;TZID=America/Los_Angeles:20260425T190000
DTEND;TZID=America/Los_Angeles:20260425T200000
LOCATION:https://www.learndesk.us/class/6467148424675328/lesson/6479a043a26caf9bf3224e312c3b6eac?ref=outlook-calendar
DESCRIPTION: Coach Training and Tools

https://www.learndesk.us/class/6467148424675328/lesson/6479a043a26caf9bf3224e312c3b6eac?ref=outlook-calendar
STATUS:CONFIRMED
SEQUENCE:3
BEGIN:VALARM
TRIGGER:-PT10M
DESCRIPTION:Class Reminder
ACTION:DISPLAY
END:VALARM
END:VEVENT
END:VCALENDAR