BEGIN:VCALENDAR
VERSION:2.0
CALSCALE:GREGORIAN
BEGIN:VEVENT
URL:https://www.learndesk.us/class/6467148424675328/lesson/2614a58934dcf55cf9e9330a7e87cde9?ref=outlook-calendar
SUMMARY:Your VIP Access – New Home for Summit Recordings & Resources
DTSTART;TZID=America/Los_Angeles:20260425T190000
DTEND;TZID=America/Los_Angeles:20260425T200000
LOCATION:https://www.learndesk.us/class/6467148424675328/lesson/2614a58934dcf55cf9e9330a7e87cde9?ref=outlook-calendar
DESCRIPTION: Dear VIP Access Members,We hope you&rsquo;ve been enjoyed your Own Your Shift Virtual Summit &ndash; VIP Access experience!&nbsp;To make things even more convenient (and to save space on our LearnDesk platform), we&rsquo;ve moved all the summit recordings to a unlisted YouTube playlist and all the resources to a neatly organised Google Drive folder.Here&rsquo;s where you can access them:

Watch All Recordings on YouTube Playlist
Download All Documents & Free Gifts&nbsp;

In the Google Drive folder, you&rsquo;ll find:

Your Summit Guide
All free gifts from our incredible speakers
Worksheets, templates, and tools
Any additional downloadable resources shared during the summit

&nbsp;
We&rsquo;re committed to ensuring you have lifetime access to these valuable materials, so feel free to bookmark both links and revisit them anytime you need inspiration, guidance, or a refresher.Thank you once again for choosing VIP Access and for being part of this transformative movement.
We...

https://www.learndesk.us/class/6467148424675328/lesson/2614a58934dcf55cf9e9330a7e87cde9?ref=outlook-calendar
STATUS:CONFIRMED
SEQUENCE:3
BEGIN:VALARM
TRIGGER:-PT10M
DESCRIPTION:Class Reminder
ACTION:DISPLAY
END:VALARM
END:VEVENT
END:VCALENDAR