BEGIN:VCALENDAR
VERSION:2.0
CALSCALE:GREGORIAN
BEGIN:VEVENT
URL:https://www.learndesk.us/class/6467148424675328/own-your-shift-vip-access?ref=outlook-calendar
SUMMARY:Own Your Shift Summit VIP Access
DTSTART;TZID=America/Los_Angeles:20260425T190000
DTEND;TZID=America/Los_Angeles:20260425T200000
LOCATION:https://www.learndesk.us/class/6467148424675328/own-your-shift-vip-access?ref=outlook-calendar
DESCRIPTION: Welcome to the VIP Experience of the Own Your Shift Virtual Summit 23 - 29 June 2025.
Please Note: All session recordings will be made available from 10:00 SAST, starting 24 June 2025, following the first day of the summit on 23 June 2025. Each day's recordings will be accessible on the Own Your Shift private Facebook page until 10:00 SAST the following day, after which they will be removed and uploaded to the VIP Access Portal on a daily basis.You&rsquo;ve made a powerful decision to rise&mdash;and now you can revisit every breakthrough moment, on your own terms. With this VIP Access Pass, you&rsquo;ll receive:Lifetime Access to All Speaker SessionsMissed a talk? Want to rewatch your favorite session? VIP gives you unlimited access to every interview, workshop, and panel from the 7-day summit.Free downloadable Own Your Shift Guide, Speaker Resources and bonus tools Get the complete Own Your Shift Summit Guide and extras that go deeper than the live experience&mdash;including...

https://www.learndesk.us/class/6467148424675328/own-your-shift-vip-access?ref=outlook-calendar
STATUS:CONFIRMED
SEQUENCE:3
BEGIN:VALARM
TRIGGER:-PT10M
DESCRIPTION:Class Reminder
ACTION:DISPLAY
END:VALARM
END:VEVENT
END:VCALENDAR