BEGIN:VCALENDAR
VERSION:2.0
CALSCALE:GREGORIAN
BEGIN:VEVENT
URL:https://www.learndesk.us/class/6417100996345856/lesson/32ced082f6715c8180de639b56a9fc37?ref=outlook-calendar
SUMMARY:Editing 2 Cameras and a Presentation
DTSTART;TZID=America/Los_Angeles:20260420T190000
DTEND;TZID=America/Los_Angeles:20260420T200000
LOCATION:https://www.learndesk.us/class/6417100996345856/lesson/32ced082f6715c8180de639b56a9fc37?ref=outlook-calendar
DESCRIPTION: Learn the fastest way to edit footage from 2 cameras & presentation slides

https://www.learndesk.us/class/6417100996345856/lesson/32ced082f6715c8180de639b56a9fc37?ref=outlook-calendar
STATUS:CONFIRMED
SEQUENCE:3
BEGIN:VALARM
TRIGGER:-PT10M
DESCRIPTION:Class Reminder
ACTION:DISPLAY
END:VALARM
END:VEVENT
END:VCALENDAR