BEGIN:VCALENDAR
VERSION:2.0
CALSCALE:GREGORIAN
BEGIN:VEVENT
URL:https://www.learndesk.us/class/6403789017841664/lesson/b469e5861c07aa4ea9f6b215b5dcbb69?ref=outlook-calendar
SUMMARY:Seven and Nine
DTSTART;TZID=America/Los_Angeles:20260420T190000
DTEND;TZID=America/Los_Angeles:20260420T200000
LOCATION:https://www.learndesk.us/class/6403789017841664/lesson/b469e5861c07aa4ea9f6b215b5dcbb69?ref=outlook-calendar
DESCRIPTION: https://www.learndesk.us/class/6403789017841664/lesson/b469e5861c07aa4ea9f6b215b5dcbb69?ref=outlook-calendar
STATUS:CONFIRMED
SEQUENCE:3
BEGIN:VALARM
TRIGGER:-PT10M
DESCRIPTION:Class Reminder
ACTION:DISPLAY
END:VALARM
END:VEVENT
END:VCALENDAR