BEGIN:VCALENDAR
VERSION:2.0
CALSCALE:GREGORIAN
BEGIN:VEVENT
URL:https://www.learndesk.us/class/6389557824061440/lesson/b9eb2741874f9fc7184b41c3a69e3839?ref=outlook-calendar
SUMMARY:Types of Videos You Can Make Use of in Your Business
DTSTART;TZID=America/Los_Angeles:20260422T190000
DTEND;TZID=America/Los_Angeles:20260422T200000
LOCATION:https://www.learndesk.us/class/6389557824061440/lesson/b9eb2741874f9fc7184b41c3a69e3839?ref=outlook-calendar
DESCRIPTION: https://www.learndesk.us/class/6389557824061440/lesson/b9eb2741874f9fc7184b41c3a69e3839?ref=outlook-calendar
STATUS:CONFIRMED
SEQUENCE:3
BEGIN:VALARM
TRIGGER:-PT10M
DESCRIPTION:Class Reminder
ACTION:DISPLAY
END:VALARM
END:VEVENT
END:VCALENDAR