BEGIN:VCALENDAR
VERSION:2.0
CALSCALE:GREGORIAN
BEGIN:VEVENT
URL:https://www.learndesk.us/class/6389557824061440/video-presentation-skills-speak-on-camera-with-confidence?ref=outlook-calendar
SUMMARY:Video Presentation Skills: Speak on Camera with Confidence
DTSTART;TZID=America/Los_Angeles:20260422T190000
DTEND;TZID=America/Los_Angeles:20260422T200000
LOCATION:https://www.learndesk.us/class/6389557824061440/video-presentation-skills-speak-on-camera-with-confidence?ref=outlook-calendar
DESCRIPTION: 
Thousands of marketing videos are uploaded to the internet every day, thousands of businesses are already flourishing and widening their customer base with the help of video marketing.
If you are still not using this incredible tool, and feel stuck lagging behind while your competitors race forward. This is the time to bridge the gap. But then so many questions arise, Where do I start? Where should I shoot my videos? Camera shyness may come up as well. How can this be overcome?
I’m Michal Magen, an actress, narrator, and presenter, the director of voice over talents and presenters agency and video presentation coach for business owners. The knowledge and experience that I have gained by combining acting and business, have allowed me to create an exact formula for effective marketing video production.
I have distilled all that I have learned and have decided to provide you with access to the practical skills that will help you be the best spokesperson for your business. In the...

https://www.learndesk.us/class/6389557824061440/video-presentation-skills-speak-on-camera-with-confidence?ref=outlook-calendar
STATUS:CONFIRMED
SEQUENCE:3
BEGIN:VALARM
TRIGGER:-PT10M
DESCRIPTION:Class Reminder
ACTION:DISPLAY
END:VALARM
END:VEVENT
END:VCALENDAR