BEGIN:VCALENDAR
VERSION:2.0
CALSCALE:GREGORIAN
BEGIN:VEVENT
URL:https://www.learndesk.us/class/6388353693908992/lesson/e0e02f210ae75273815a0f4d4b3996d8?ref=outlook-calendar
SUMMARY:lesson 2
DTSTART;TZID=America/Los_Angeles:20260425T190000
DTEND;TZID=America/Los_Angeles:20260425T200000
LOCATION:https://www.learndesk.us/class/6388353693908992/lesson/e0e02f210ae75273815a0f4d4b3996d8?ref=outlook-calendar
DESCRIPTION: https://www.learndesk.us/class/6388353693908992/lesson/e0e02f210ae75273815a0f4d4b3996d8?ref=outlook-calendar
STATUS:CONFIRMED
SEQUENCE:3
BEGIN:VALARM
TRIGGER:-PT10M
DESCRIPTION:Class Reminder
ACTION:DISPLAY
END:VALARM
END:VEVENT
END:VCALENDAR