BEGIN:VCALENDAR
VERSION:2.0
CALSCALE:GREGORIAN
BEGIN:VEVENT
URL:https://www.learndesk.us/class/6388353693908992/lesson/dacc619c5876a52ae08cd8e01122d0de?ref=outlook-calendar
SUMMARY:using video reference to animate 3d characters
DTSTART;TZID=America/Los_Angeles:20260421T190000
DTEND;TZID=America/Los_Angeles:20260421T200000
LOCATION:https://www.learndesk.us/class/6388353693908992/lesson/dacc619c5876a52ae08cd8e01122d0de?ref=outlook-calendar
DESCRIPTION: This course covers how to use video as a guide on how to approach animating 3d characters in any given 3d software.the course will dive into the 12 principles of animation and will show you how to convert video into an image sequence usable in auto desk Maya.This course is geared for intermediate animation students who are looking to improve on their animation techniques and skills.

https://www.learndesk.us/class/6388353693908992/lesson/dacc619c5876a52ae08cd8e01122d0de?ref=outlook-calendar
STATUS:CONFIRMED
SEQUENCE:3
BEGIN:VALARM
TRIGGER:-PT10M
DESCRIPTION:Class Reminder
ACTION:DISPLAY
END:VALARM
END:VEVENT
END:VCALENDAR