BEGIN:VCALENDAR
VERSION:2.0
CALSCALE:GREGORIAN
BEGIN:VEVENT
URL:https://www.learndesk.us/class/6388353693908992/lesson/ae398a9c8787206816cc8cf10170e841?ref=outlook-calendar
SUMMARY:lesson 10
DTSTART;TZID=America/Los_Angeles:20260421T190000
DTEND;TZID=America/Los_Angeles:20260421T200000
LOCATION:https://www.learndesk.us/class/6388353693908992/lesson/ae398a9c8787206816cc8cf10170e841?ref=outlook-calendar
DESCRIPTION: https://www.learndesk.us/class/6388353693908992/lesson/ae398a9c8787206816cc8cf10170e841?ref=outlook-calendar
STATUS:CONFIRMED
SEQUENCE:3
BEGIN:VALARM
TRIGGER:-PT10M
DESCRIPTION:Class Reminder
ACTION:DISPLAY
END:VALARM
END:VEVENT
END:VCALENDAR