BEGIN:VCALENDAR
VERSION:2.0
CALSCALE:GREGORIAN
BEGIN:VEVENT
URL:https://www.learndesk.us/class/6383381430403072/lesson/54c8e303010e8da77a2fc4609b9cd773?ref=outlook-calendar
SUMMARY:裁员
DTSTART;TZID=America/Los_Angeles:20260421T190000
DTEND;TZID=America/Los_Angeles:20260421T200000
LOCATION:https://www.learndesk.us/class/6383381430403072/lesson/54c8e303010e8da77a2fc4609b9cd773?ref=outlook-calendar
DESCRIPTION: https://www.learndesk.us/class/6383381430403072/lesson/54c8e303010e8da77a2fc4609b9cd773?ref=outlook-calendar
STATUS:CONFIRMED
SEQUENCE:3
BEGIN:VALARM
TRIGGER:-PT10M
DESCRIPTION:Class Reminder
ACTION:DISPLAY
END:VALARM
END:VEVENT
END:VCALENDAR